BEGIN:VCALENDAR
VERSION:2.0
PRODID:-//Limburg verduurzaamt - ECPv6.15.11//NONSGML v1.0//EN
CALSCALE:GREGORIAN
METHOD:PUBLISH
X-WR-CALNAME:Limburg verduurzaamt
X-ORIGINAL-URL:https://limburgverduurzaamt.nl
X-WR-CALDESC:Evenementen voor Limburg verduurzaamt
REFRESH-INTERVAL;VALUE=DURATION:PT1H
X-Robots-Tag:noindex
X-PUBLISHED-TTL:PT1H
BEGIN:VTIMEZONE
TZID:UTC
BEGIN:STANDARD
TZOFFSETFROM:+0000
TZOFFSETTO:+0000
TZNAME:UTC
DTSTART:20240101T000000
END:STANDARD
END:VTIMEZONE
BEGIN:VEVENT
DTSTART;VALUE=DATE:20250609
DTEND;VALUE=DATE:20250610
DTSTAMP:20260421T141933
CREATED:20250225T111526Z
LAST-MODIFIED:20250225T111725Z
UID:16638-1749427200-1749513599@limburgverduurzaamt.nl
SUMMARY:Stoomvrijmarkt Simpelveld
DESCRIPTION:
URL:https://limburgverduurzaamt.nl/event/stoomvrijmarkt-simpelveld/
LOCATION:Simpelveld\,\, Markt\, Simpelveld\, Limburg\, 6369AG\, Netherlands
CATEGORIES:Simpelveld
END:VEVENT
BEGIN:VEVENT
DTSTART;TZID=UTC:20250614T120000
DTEND;TZID=UTC:20250614T150000
DTSTAMP:20260421T141933
CREATED:20250612T150721Z
LAST-MODIFIED:20250612T150721Z
UID:17818-1749902400-1749913200@limburgverduurzaamt.nl
SUMMARY:Klimaatkaravaan Hoensbroek
DESCRIPTION:Klimaatkaravaan Hoensbroek – WoonWijzerWinkel Limburg is erbij\nOp zaterdag 14 juni vindt de Klimaatkaravaan plaats in Hoensbroek\, een initiatief van Gebiedscoöperatie Parkstad. Tijdens deze inspirerende middag kunnen bewoners in gesprek met lokale en regionale partners over verduurzaming\, energie en klimaat.\nWoonWijzerWinkel Limburg is aanwezig met onze Energiebespaarcoaches. We geven gratis en onafhankelijk advies over kleine én grotere maatregelen\, van radiatorfolie tot warmtepomp.
URL:https://limburgverduurzaamt.nl/event/klimaatkaravaan-hoensbroek/
LOCATION:Gebrookerplein\, Hoensbroek\, Gebrookerplein\, Hoensbroek\, Limburg\, 6431LX\, Netherlands
CATEGORIES:Heerlen,Parkstad
END:VEVENT
END:VCALENDAR