BEGIN:VCALENDAR
VERSION:2.0
PRODID:-//Limburg verduurzaamt - ECPv6.15.11//NONSGML v1.0//EN
CALSCALE:GREGORIAN
METHOD:PUBLISH
X-WR-CALNAME:Limburg verduurzaamt
X-ORIGINAL-URL:https://limburgverduurzaamt.nl
X-WR-CALDESC:Evenementen voor Limburg verduurzaamt
REFRESH-INTERVAL;VALUE=DURATION:PT1H
X-Robots-Tag:noindex
X-PUBLISHED-TTL:PT1H
BEGIN:VTIMEZONE
TZID:UTC
BEGIN:STANDARD
TZOFFSETFROM:+0000
TZOFFSETTO:+0000
TZNAME:UTC
DTSTART:20230101T000000
END:STANDARD
END:VTIMEZONE
BEGIN:VEVENT
DTSTART;VALUE=DATE:20241129
DTEND;VALUE=DATE:20241130
DTSTAMP:20260422T020804
CREATED:20240920T144646Z
LAST-MODIFIED:20240927T080825Z
UID:14028-1732838400-1732924799@limburgverduurzaamt.nl
SUMMARY:Congres Limburg Verduurzaamt 2024
DESCRIPTION:Op vrijdag 29 november slaan WoonWijzerWinkel Limburg\, de Stadsregio Parkstad en Roda J.C. Kerkrade opnieuw de handen ineen om het Congres ‘Limburg Verduurzaamt 2024’ te organiseren in het prachtige Parkstad Limburg stadion met speciale ingang en parking via het 1200 m2 WoonWijzerWinkel adviescentrum aan de achterzijde van het stadion!  \nNa het succes van de eerste editie vorig jaar belooft het\, ook dit jaar\, een boeiende\, informatieve én interactieve dag te worden\, volledig gewijd aan de bevordering van duurzaamheid\, de energietransitie en klimaatbestendigheid in Limburg. \nHet congres richt zich op de overheid\, bedrijfsleven\, energiecoöperaties\, woningcorporaties en burgers in de energietransitie. \nMeer informatie volgt via: www.congreslimburgverduurzaamt.nl
URL:https://limburgverduurzaamt.nl/event/congres-limburg-verduurzaamt-2024/
LOCATION:WoonWijzerWinkel Limburg\,\, 61 Roda J.C. Ring\, Kerkrade\, Kerkrade\, 6466 NH\, Netherlands
ATTACH;FMTTYPE=image/jpeg:https://limburgverduurzaamt.nl/wp-content/uploads/2024/09/LI869E1.jpg
ORGANIZER;CN="WoonWijzerWinkel Limburg":MAILTO:info@limburg.woonwijzerwinkel.nl
END:VEVENT
BEGIN:VEVENT
DTSTART;VALUE=DATE:20241028
DTEND;VALUE=DATE:20241103
DTSTAMP:20260422T020804
CREATED:20240924T102443Z
LAST-MODIFIED:20240924T103041Z
UID:14082-1730073600-1730591999@limburgverduurzaamt.nl
SUMMARY:Verduurzaam-je-huis-avonden-Brunssum
DESCRIPTION:Verduurzaam-je-huis-avonden\nOp maandagavond 28 oktober en woensdagavond 30 oktober ben je van harte welkom op een ‘Verduurzaam-je-huis-avond’ in de Brikke Oave. Samen met de gemeente Brunssum en een aantal experts zoomen we dan onder andere in op energie besparen in de woning. Het thema wordt breed in beeld gebracht aan de hand van verschillende thema’s. Denk daarbij onder andere aan: opwekken\, isoleren en ventileren\, een warm huis en warm water zonder aardgas. Daarnaast komen natuurlijk ook de toe te passen subsidies en leningen aan bod. \nKortom\, een avond die zeker de moeite waard is om bij te wonen. Houdt de website van de gemeente Brunssum in de gaten voor de laatste updates! \nProgramma\n\nMaandag 28-10 van 18.30 – 22.00 uur: Verduurzaam-je-huis-avond in de Brikke Oave (1)\nWoensdag 30-10 van 18.30 – 22.00 uur: Verduurzaam-je-huis-avond in de Brikke Oave (2)\nZaterdag 2 november van 9.00 – 15.00 uur: Duurzaamheidsmarkt
URL:https://limburgverduurzaamt.nl/event/verduurzaam-je-huis-avonden-brunssum/
LOCATION:Brikke Oave\,\, Lindeplein 7\, Brunssum\, Limburg\, 6444 AT
ATTACH;FMTTYPE=image/jpeg:https://limburgverduurzaamt.nl/wp-content/uploads/2024/09/460500873_937725041721300_1295326358948607304_n.jpg
ORGANIZER;CN="Gemeente Brunssum":MAILTO:gemeente@brunssum.nl
END:VEVENT
BEGIN:VEVENT
DTSTART;TZID=UTC:20241017T130000
DTEND;TZID=UTC:20241017T180000
DTSTAMP:20260422T020804
CREATED:20240927T101743Z
LAST-MODIFIED:20240927T131949Z
UID:14367-1729170000-1729188000@limburgverduurzaamt.nl
SUMMARY:Van samenwerken naar samen doen
DESCRIPTION:Seminar over doorbraakpatronen in publiek ondernemerschap\nBij zowel ondernemers als overheden verandert de laatste tijd bijzonder veel. Steeds vaker hebben bedrijven en gemeentes elkaar voor zaken nodig. Een typisch voorbeeld vormen de perikelen rond de energietransitie in Parkstad. Dat gaat nu de goede richting op! \nHet kan altijd beter\nFrustratie ligt op de loer zeggen ondernemers: traag en lastig. Vreemd genoeg hoor je ongeveer dezelfde geluiden ook bij overheden. Daarom willen wij eens bij elkaar zitten. Wat werkt wel en wat niet? En waarom is dat zo? Moeten we onze eigen rol herzien? Zijn er best practices waar we samen van kunnen leren? Ja\, die zijn er\, in overvloed zelfs. \nAan de slag\nSpijkers met koppen slaan? Dat is mooi! Graag nodigen we je uit om donderdag 17 oktober van 13.00 tot 18.00 samen met ons aan de slag te gaan in onze geïmproviseerde werkplaats\, ingericht bij Schunck. Vanuit het Glaspaleis kijken we naar wat leeft en wat er nog dringend nodig is. Dit doen we met maximaal 100 deelnemers in 3 diverse groepen. \nProgramma\n13.00 welkom en opening\n13.15 presentatie ‘Waar staan we nu?’\n13.30 inleiding door Jan Jonker\n14.30 korte pauze\n14.45 parallelsessies kwesties ronde 1\n15.30 parallelsessies kwesties ronde 2\n16.30 interviews\, terugkoppeling\n17.00 toogdialoog\n18.00 einde programma \nMeedoen en aanmelden\nOntmoet Jan Jonker\, maar ook veel ondernemers\, politici en ambtenaren die bij ondernemen in Parkstad betrokken zijn. Ben er tijdig bij: er is maar een beperkt aantal plaatsen. Aanmelden kan door een mail te sturen naar: secretariaat@lijnspel.nl
URL:https://limburgverduurzaamt.nl/event/van-samenwerken-naar-samen-doen/
LOCATION:Schunck\,\, Glaspaleis\, Bongerd 18\, Heerlen\, Limburg\, 6411 JM\, Netherlands
ATTACH;FMTTYPE=image/jpeg:https://limburgverduurzaamt.nl/wp-content/uploads/2024/09/schunck-glaspaleis-gebouwjannes-3679.jpg.rendition.792.1267.jpeg
ORGANIZER;CN="Lijnspel":MAILTO:secretariaat@lijnspel.nl
END:VEVENT
BEGIN:VEVENT
DTSTART;VALUE=DATE:20241004
DTEND;VALUE=DATE:20241013
DTSTAMP:20260422T020804
CREATED:20240924T091205Z
LAST-MODIFIED:20241008T102236Z
UID:14069-1728000000-1728777599@limburgverduurzaamt.nl
SUMMARY:Festival 't Kirchroa va mörje
DESCRIPTION:Festival ’t Kirchroa va mörje\nVan vrijdag 4 t/m zaterdag 12 oktober organiseert de gemeente Kerkrade in samenwerking met EuregioBizz het Festival ’t Kirchroa va Mörje 2024. 9 Dagen met elke dag evenementen en wederom als afsluiting de Fair ’t Kirchroa va Mörje op zaterdag 12 oktober in het Flexiforum. Evenementen gericht op vooruit kijken en hoe we allemaal ons steentje kunnen bijdragen. Want ’t Kirchroa va Mörje begint vandaag! Een bruisend festival dat de hele gemeente Kerkrade doorkruist. Presentaties\, rondleidingen\, workshops\, diner\, wandelingen\, elektrische fietstocht\, bustour en nog veel meer! \nIn opmaat naar het festival staan elke maand evenementen op de agenda die aansluiten bij het gedachtengoed. Bestaande evenementen of nieuwe evenementen\, klein of groot\, allemaal samen voor een brede doelgroep. Met thema’s zoals klimaat\, energie\, voeding\, water\, afval\, hergebruik\, kleding\, consuminderen\, wonen\, natuur\, biodiversiteit\, vervoer\, vrijetijdsbesteding en onderwijs. Wisselende locaties met activiteiten voor jong en oud. \nActiviteiten WoonWijzerWinkel Limburg\nTijdens de Week van de Duurzaamheid kun je bij de WoonWijzerWinkel Limburg meedoen aan verschillende win-acties met kans op klein besparend materiaal en als je geluk hebt houd je er zelfs een mooi infrarood paneel aan over❗ \nDaarnaast kun je gratis online deelnemen aan een 1-op-1 spreekkwartiertje met een Adviseur Duurzaam Vastgoed én vindt er van dinsdag 8 t/m donderdag 10 oktober elke middag tussen 14.00 en 15.00 uur een online vragenuurtje plaats\, waarin een adviseur al je vragen beantwoord op het gebied van duurzaamheid. \nOp de markt zelf (zaterdag 12 oktober) kun je kans maken op een elektrische kachel. Altijd fijn om het in korte tijd lekker warm te krijgen 😉 Schrijf je in op het formulier dat te vinden is bij onze marktkraam in het Flexiforum en maak automatisch kans op deze prijs. Voor het 1-op-1 spreekkwartiertje of het online vragenuurtje\, kun je je inschrijven middels de volgende link https://ap.lc/puFZH
URL:https://limburgverduurzaamt.nl/event/ut-kirchroa-va-morje/
LOCATION:WoonWijzerWinkel Limburg\,\, 61 Roda J.C. Ring\, Kerkrade\, Kerkrade\, 6466 NH\, Netherlands
ATTACH;FMTTYPE=image/jpeg:https://limburgverduurzaamt.nl/wp-content/uploads/2024/09/logo-kvm-2024.jpg
END:VEVENT
BEGIN:VEVENT
DTSTART;TZID=UTC:20240921T110000
DTEND;TZID=UTC:20240921T160000
DTSTAMP:20260422T020804
CREATED:20240920T100400Z
LAST-MODIFIED:20240920T142416Z
UID:13987-1726916400-1726934400@limburgverduurzaamt.nl
SUMMARY:SDG Global Goals informatiemarkt
DESCRIPTION:Aanstaande zaterdag\, 21 september\, organiseert de gemeente Heerlen samen met negen andere organisaties de Global Goals-informatiemarkt op de Promenade I in Heerlen-Centrum. Tussen 11.00 en 16.00 uur kunnen bezoekers kennismaken met initiatieven die bijdragen aan een duurzamere\, inclusievere en rechtvaardigere samenleving\, in lijn met de zeventien doelen van de Verenigde Naties. \nTijdens de markt kunnen bezoekers genieten van fairtrade koffie\, thee en chocolade\, en meer te weten komen over thema’s zoals biodiversiteit en duurzame stadsontwikkeling. Daarnaast zijn er rondleidingen om 13.00 en 14.30 uur langs vergroeningprojecten van Promenade II\, met als startpunt het voormalige pand van Pearle. \nMet het oog op 2030 wil de gemeente Heerlen samen met inwoners bijdragen aan de wereldwijde Global Goals. Iedereen is van harte uitgenodigd om langs te komen en een verschil te maken.
URL:https://limburgverduurzaamt.nl/event/sdg-global-goals-informatiemarkt/
LOCATION:Promenade 1\,\, Promenade 1\, Heerlen\, Heerlen\, Netherlands
ATTACH;FMTTYPE=image/png:https://limburgverduurzaamt.nl/wp-content/uploads/2024/09/TGG_Icon_Color_18.png
ORGANIZER;CN="Gemeente Heerlen":MAILTO:gemeente@heerlen.nl
END:VEVENT
END:VCALENDAR