BEGIN:VCALENDAR
VERSION:2.0
PRODID:-//Limburg verduurzaamt - ECPv6.15.11//NONSGML v1.0//EN
CALSCALE:GREGORIAN
METHOD:PUBLISH
X-ORIGINAL-URL:https://limburgverduurzaamt.nl
X-WR-CALDESC:Evenementen voor Limburg verduurzaamt
REFRESH-INTERVAL;VALUE=DURATION:PT1H
X-Robots-Tag:noindex
X-PUBLISHED-TTL:PT1H
BEGIN:VTIMEZONE
TZID:UTC
BEGIN:STANDARD
TZOFFSETFROM:+0000
TZOFFSETTO:+0000
TZNAME:UTC
DTSTART:20240101T000000
END:STANDARD
END:VTIMEZONE
BEGIN:VEVENT
DTSTART;TZID=UTC:20250903T120000
DTEND;TZID=UTC:20250903T170000
DTSTAMP:20260422T021120
CREATED:20250617T092834Z
LAST-MODIFIED:20250617T092834Z
UID:17839-1756900800-1756918800@limburgverduurzaamt.nl
SUMMARY:Nationaal Symposium Energierechtvaardigheid
DESCRIPTION:
URL:https://limburgverduurzaamt.nl/event/nationaal-symposium-energierechtvaardigheid/
LOCATION:Heerlen\, Burgemeester van Grunsvenplein 145\, Heerlen\, 6411 AS\, Netherlands
CATEGORIES:Heerlen,Parkstad
END:VEVENT
BEGIN:VEVENT
DTSTART;TZID=UTC:20250909T180000
DTEND;TZID=UTC:20250909T200000
DTSTAMP:20260422T021120
CREATED:20250313T085654Z
LAST-MODIFIED:20250313T123444Z
UID:16818-1757440800-1757448000@limburgverduurzaamt.nl
SUMMARY:VvE: ervaringen\, do's en don'ts. Deel uw ervaring en leer van anderen
DESCRIPTION:De ene vve is de andere niet. In deze informatiebijeenkomst bespreken we diverse casussen van vve’s die een verduurzamingstraject hebben doorlopen. Welke uitdagingen kunnen er ontstaan en hoe kun je deze oplossen? Ervaar het samen met andere vve-leden tijdens deze interactieve sessie! \nSchrijf je hier in.
URL:https://limburgverduurzaamt.nl/event/vve-ervaringen-dos-en-donts-deel-uw-ervaring-en-leer-van-anderen/
LOCATION:Klimaathuis Maastricht\,\, President Rooseveltlaan 217\, Maastricht\, Limburg\, 6224CP\, Netherlands
CATEGORIES:Maastricht,VVE
ORGANIZER;CN="Gemeente Maastricht":MAILTO:vve-balie@maastricht.nl
END:VEVENT
BEGIN:VEVENT
DTSTART;TZID=UTC:20250920T090000
DTEND;TZID=UTC:20250920T120000
DTSTAMP:20260422T021120
CREATED:20250912T151246Z
LAST-MODIFIED:20250915T095132Z
UID:18156-1758358800-1758369600@limburgverduurzaamt.nl
SUMMARY:💡 Uitnodiging: open EnergieMorgen in de WoonWijzerWinkel Limburg💡
DESCRIPTION:Op zaterdag 20 september is het zover: de Open EnergieMorgen bij de WoonWijzerWinkel Limburg! Kom langs tussen 09.00 en 12.00 uur en laat je inspireren. \nOnze energiebespaarcoaches staan voor je klaar om al je vragen te beantwoorden. Ze nemen je graag mee in de 5 stappen naar een energiezuinige woning: van ledlampen en isolatie tot zonnepanelen. Geen moeilijke praatjes\, maar gewoon goede tips waar je iets aan hebt! \n🎉 Extra leuk: ontmoet buren die al hebben verduurzaamt met onze hulp en hoor hun echte ervaring en plan ter plekke een EnergieBespaarPlan-afspraak met een adviseur voor slechts € 50 i.p.v. € 89! (deze actie is alleen geldig op zaterdag 20 september 2025 en alleen voor bezoekers aan onze showroom). \n☕ En… we trakteren op koffie en een lekker stukje Limburgse vlaai! \nDeel dit event gerust met je vrienden en familie uit de buurt!
URL:https://limburgverduurzaamt.nl/event/%f0%9f%92%a1-uitnodiging-open-energiemorgen-in-de-woonwijzerwinkel-limburg%f0%9f%92%a1/
LOCATION:WoonWijzerWinkel Limburg\,\, Roda JC Ring 61\, Kerkrade\, Limburg\, 6466NH\, Netherlands
CATEGORIES:Kerkrade,Parkstad
ORGANIZER;CN="WoonWijzerWinkel Limburg":MAILTO:info@limburg.woonwijzerwinkel.nl
END:VEVENT
BEGIN:VEVENT
DTSTART;TZID=UTC:20250920T100000
DTEND;TZID=UTC:20250920T160000
DTSTAMP:20260422T021120
CREATED:20250410T113152Z
LAST-MODIFIED:20250410T113152Z
UID:17235-1758362400-1758384000@limburgverduurzaamt.nl
SUMMARY:SDG Global Goals informatiemarkt
DESCRIPTION:
URL:https://limburgverduurzaamt.nl/event/sdg-global-goals-informatiemarkt-2/
LOCATION:Bongerd\,\, Bongerd\, Heerlen\, Limburg\, 6411JL\, Netherlands
CATEGORIES:Heerlen,Limburg,Parkstad
ORGANIZER;CN="Gemeente Heerlen":MAILTO:gemeente@heerlen.nl
END:VEVENT
BEGIN:VEVENT
DTSTART;TZID=UTC:20250921T110000
DTEND;TZID=UTC:20250921T170000
DTSTAMP:20260422T021120
CREATED:20250327T132355Z
LAST-MODIFIED:20250619T131754Z
UID:16964-1758452400-1758474000@limburgverduurzaamt.nl
SUMMARY:Festival Duurzaam Landgraaf
DESCRIPTION:Wil jij je huis energiezuiniger maken\, maar weet je niet goed waar te beginnen? Dan moet je op zondag 21 september zéker even langslopen bij de stand van de Woonwijzerwinkel Limburg tijdens Festival Duurzaam Landgraaf!
URL:https://limburgverduurzaamt.nl/event/festival-duurzaam-landgraaf/
LOCATION:Brandenberg beroepscollege\,\, Graafstraat 10\, Landgraaf\, Limburg\, 6371XS\, Netherlands
CATEGORIES:Landgraaf,Limburg,Parkstad
END:VEVENT
BEGIN:VEVENT
DTSTART;VALUE=DATE:20250928
DTEND;VALUE=DATE:20250929
DTSTAMP:20260422T021120
CREATED:20250225T112419Z
LAST-MODIFIED:20250225T112419Z
UID:16644-1759017600-1759103999@limburgverduurzaamt.nl
SUMMARY:Duurzaamheidsfestival Hoeve Corisberg
DESCRIPTION:
URL:https://limburgverduurzaamt.nl/event/duurzaamheidsfestival-hoeve-corisberg/
LOCATION:Hoeve Corisberg\,\, Corisbergweg 1\, Heerlen\, Limburg\, 6416HJ\, Netherlands
CATEGORIES:Heerlen
END:VEVENT
BEGIN:VEVENT
DTSTART;VALUE=DATE:20251003
DTEND;VALUE=DATE:20251012
DTSTAMP:20260422T021120
CREATED:20250618T091607Z
LAST-MODIFIED:20250915T094741Z
UID:17853-1759449600-1760227199@limburgverduurzaamt.nl
SUMMARY:Ut Kirchroa va murje\, combi met Week vd Duurzaamheid
DESCRIPTION:
URL:https://limburgverduurzaamt.nl/event/ut-kirchroa-va-murje-combi-met-week-vd-duurzaamheid/
LOCATION:Markt 33\, 6461 EC Kerkrade
CATEGORIES:Kerkrade
END:VEVENT
BEGIN:VEVENT
DTSTART;TZID=UTC:20251007T150000
DTEND;TZID=UTC:20251007T180000
DTSTAMP:20260422T021120
CREATED:20250912T151241Z
LAST-MODIFIED:20250915T095013Z
UID:18159-1759849200-1759860000@limburgverduurzaamt.nl
SUMMARY:MKB Limburg Verduurzaamt – Samen richting een toekomstbestendig bedrijf
DESCRIPTION:Ben jij MKB-ondernemer in Limburg en wil je weten hoe duurzaamheid jouw bedrijf sterker kan maken? Kom dan op 7 oktober 2025 naar de inspirerende middagbijeenkomst ‘MKB Limburg Verduurzaamt’ in samenwerking met onze partner de WoonWijzerWinkel Limburg. \nThema: Energietransitie: van technisch beheer naar strategisch belang. \nTijdens dit event ontdek je wat de energietransitie concreet betekent voor jouw onderneming en leer je hoe ook jij gebruik kunt maken van praktische ondersteuning en advies. Niet morgen\, maar vandaag! \nProgramma\n15.00 – 15.15    Inloop met koffie/thee\n15.15 – 15.35    Welkomstwoord en introductie MKBLimburgVerduurzaamt en WWWL\n15.35 – 16.00    Het (strategisch) belang van energietransitie voor je bedrijf\n16.00 – 16.30    Tafeldebat met diverse ondernemers/ambassadeurs\n16.30 – 16.50    Ons dienstenpakket; hoe kunnen we jou als MKB-ondernemer verder op weg helpen?\n16.50 – 17.00    Afsluiting\n17.00 – 18.00    Informeel samenzijn/borrel \n \nEr is voldoende gratis parkeergelegenheid voor de deur!
URL:https://limburgverduurzaamt.nl/event/mkb-limburg-verduurzaamt-samen-richting-een-toekomstbestendig-bedrijf/
LOCATION:WoonWijzerWinkel Limburg\,\, Roda JC Ring 61\, Kerkrade\, Limburg\, 6466NH\, Netherlands
CATEGORIES:MKB
ORGANIZER;CN="WoonWijzerWinkel Limburg":MAILTO:info@limburg.woonwijzerwinkel.nl
END:VEVENT
BEGIN:VEVENT
DTSTART;TZID=UTC:20251113T180000
DTEND;TZID=UTC:20251113T200000
DTSTAMP:20260422T021120
CREATED:20250313T090804Z
LAST-MODIFIED:20250506T091404Z
UID:16820-1763056800-1763064000@limburgverduurzaamt.nl
SUMMARY:VvE: Financiering\, leningen en subsidies
DESCRIPTION:Het verduurzamen van een complex is in veel gevallen een kostbaar proces\, gelukkig zijn er diverse subsidies en leningen speciaal hiervoor beschikbaar. In deze informatiebijeenkomst lichten wij de diverse leningen en subsidies toe waar een vve in 2025 gebruik van kan maken. \nSchrijf je hier in.
URL:https://limburgverduurzaamt.nl/event/vve-financiering-leningen-en-subsidies-2/
LOCATION:Klimaathuis Maastricht\,\, President Rooseveltlaan 217\, Maastricht\, Limburg\, 6224CP\, Netherlands
CATEGORIES:Maastricht,VVE
ORGANIZER;CN="Gemeente Maastricht":MAILTO:vve-balie@maastricht.nl
END:VEVENT
BEGIN:VEVENT
DTSTART;TZID=UTC:20251126T193000
DTEND;TZID=UTC:20251126T210000
DTSTAMP:20260422T021120
CREATED:20251105T092201Z
LAST-MODIFIED:20251105T092201Z
UID:18349-1764185400-1764190800@limburgverduurzaamt.nl
SUMMARY:Succesvol vergaderen\, beslissen & verduurzamen met de VvE
DESCRIPTION:Meld je hier aan!
URL:https://limburgverduurzaamt.nl/event/succesvol-vergaderen-beslissen-verduurzamen-met-de-vve/
LOCATION:WoonWijzerWinkel Limburg\,\, Roda JC Ring 61\, Kerkrade\, Limburg\, 6466NH\, Netherlands
CATEGORIES:Limburg,Parkstad
ORGANIZER;CN="WoonWijzerWinkel Limburg":MAILTO:info@limburg.woonwijzerwinkel.nl
END:VEVENT
BEGIN:VEVENT
DTSTART;TZID=UTC:20260128T193000
DTEND;TZID=UTC:20260128T210000
DTSTAMP:20260422T021120
CREATED:20251105T092143Z
LAST-MODIFIED:20251105T092143Z
UID:18351-1769628600-1769634000@limburgverduurzaamt.nl
SUMMARY:Verduurzamingsmogelijkheden van een VvE (isoleren\, ventileren en verwarmen)
DESCRIPTION:Meld je hier aan!
URL:https://limburgverduurzaamt.nl/event/verduurzamingsmogelijkheden-van-een-vve-isoleren-ventileren-en-verwarmen/
LOCATION:WoonWijzerWinkel Limburg\,\, Roda JC Ring 61\, Kerkrade\, Limburg\, 6466NH\, Netherlands
CATEGORIES:Limburg,Parkstad
ORGANIZER;CN="WoonWijzerWinkel Limburg":MAILTO:info@limburg.woonwijzerwinkel.nl
END:VEVENT
BEGIN:VEVENT
DTSTART;TZID=UTC:20260203T190000
DTEND;TZID=UTC:20260203T203000
DTSTAMP:20260422T021120
CREATED:20260127T112355Z
LAST-MODIFIED:20260127T112355Z
UID:19085-1770145200-1770150600@limburgverduurzaamt.nl
SUMMARY:Webinar Isolatieproject Parkstad
DESCRIPTION:Wil je je woning comfortabeler\, energiezuiniger én toekomstklaar maken? Tijdens het webinar Isolatieproject Parkstad ontdek je in één uur hoe het project werkt\, welke isolatiemaatregelen mogelijk zijn en welke financiële voordelen er voor jou klaarstaan. \n\nJe krijgt een duidelijk beeld van het proces — van aanmelding tot uitvoering — en hoort rechtstreeks hoe jij zonder gedoe kunt starten met isoleren. Ook leggen we uit wat het oplevert én welke subsidies beschikbaar zijn. \n\nDaarnaast is er volop ruimte voor vragen: stel jouw vraag direct aan het panel tijdens de live Q&A. \nKortom: een laagdrempelige kans om te ontdekken hoe jij kunt profiteren van slimme isolatie\, aantrekkelijke financiële regelingen en volledige ontzorging. Mis het niet!
URL:https://limburgverduurzaamt.nl/event/webinar-isolatieproject-parkstad/
LOCATION:WoonWijzerWinkel Limburg\,\, Roda JC Ring 61\, Kerkrade\, Limburg\, 6466NH\, Netherlands
CATEGORIES:Beekdaelen,Brunssum,Heerlen,Kerkrade,Landgraaf,Limburg,Parkstad,Simpelveld,Voerendaal
ATTACH;FMTTYPE=image/png:https://limburgverduurzaamt.nl/wp-content/uploads/2026/01/a51bc480-0818-42df-a67e-cde91e04a40d.png
ORGANIZER;CN="WoonWijzerWinkel Limburg":MAILTO:info@limburg.woonwijzerwinkel.nl
END:VEVENT
BEGIN:VEVENT
DTSTART;TZID=UTC:20260225T193000
DTEND;TZID=UTC:20260225T210000
DTSTAMP:20260422T021120
CREATED:20251105T092125Z
LAST-MODIFIED:20251105T092125Z
UID:18353-1772047800-1772053200@limburgverduurzaamt.nl
SUMMARY:Zonnepanelen\, elektrisch laden en energieopslag bij VvE’s
DESCRIPTION:Meld je hier aan!
URL:https://limburgverduurzaamt.nl/event/zonnepanelen-elektrisch-laden-en-energieopslag-bij-vves/
LOCATION:WoonWijzerWinkel Limburg\,\, Roda JC Ring 61\, Kerkrade\, Limburg\, 6466NH\, Netherlands
CATEGORIES:Limburg,Parkstad
ORGANIZER;CN="WoonWijzerWinkel Limburg":MAILTO:info@limburg.woonwijzerwinkel.nl
END:VEVENT
BEGIN:VEVENT
DTSTART;TZID=UTC:20260325T193000
DTEND;TZID=UTC:20260325T210000
DTSTAMP:20260422T021120
CREATED:20251105T092059Z
LAST-MODIFIED:20251105T092059Z
UID:18355-1774467000-1774472400@limburgverduurzaamt.nl
SUMMARY:Subsidies en financieringen voor VvE’s
DESCRIPTION:Meld je hier aan!
URL:https://limburgverduurzaamt.nl/event/subsidies-en-financieringen-voor-vves/
LOCATION:WoonWijzerWinkel Limburg\,\, Roda JC Ring 61\, Kerkrade\, Limburg\, 6466NH\, Netherlands
CATEGORIES:Limburg,Parkstad
ORGANIZER;CN="WoonWijzerWinkel Limburg":MAILTO:info@limburg.woonwijzerwinkel.nl
END:VEVENT
BEGIN:VEVENT
DTSTART;TZID=UTC:20260402T190000
DTEND;TZID=UTC:20260402T210000
DTSTAMP:20260422T021120
CREATED:20260211T083728Z
LAST-MODIFIED:20260211T083728Z
UID:19103-1775156400-1775163600@limburgverduurzaamt.nl
SUMMARY:VvE-bijeenkomst Isolatieproject Parkstad
DESCRIPTION:Woont u in een VvE in Parkstad en denkt u na over het verduurzamen en isoleren van uw appartementencomplex? Kom dan naar deze informatieve bijeenkomst! \nWe bespreken het Isolatieproject Parkstad\, een initiatief om VvE’s te ondersteunen bij het energiezuiniger en comfortabeler maken van hun gebouwen. Ontdek wat de mogelijkheden zijn\, welke stappen er nodig zijn en hoe u als VvE gezamenlijk kunt optrekken. \nEen unieke kans om kennis op te doen\, ervaringen uit te wisselen en een goede eerste stap te zetten naar een duurzamere en waardevastere woning. \nSchrijf u in via: https://forms.office.com/e/YPNMTybdn6
URL:https://limburgverduurzaamt.nl/event/vve-bijeenkomst-isolatieproject-parkstad/
LOCATION:WoonWijzerWinkel Limburg\,\, Roda JC Ring 61\, Kerkrade\, Limburg\, 6466NH\, Netherlands
CATEGORIES:Beekdaelen,Brunssum,Heerlen,Kerkrade,Landgraaf,Parkstad,Simpelveld,Voerendaal
ORGANIZER;CN="WoonWijzerWinkel Limburg":MAILTO:info@limburg.woonwijzerwinkel.nl
END:VEVENT
END:VCALENDAR