BEGIN:VCALENDAR
VERSION:2.0
PRODID:-//Limburg verduurzaamt - ECPv6.15.11//NONSGML v1.0//EN
CALSCALE:GREGORIAN
METHOD:PUBLISH
X-WR-CALNAME:Limburg verduurzaamt
X-ORIGINAL-URL:https://limburgverduurzaamt.nl
X-WR-CALDESC:Evenementen voor Limburg verduurzaamt
REFRESH-INTERVAL;VALUE=DURATION:PT1H
X-Robots-Tag:noindex
X-PUBLISHED-TTL:PT1H
BEGIN:VTIMEZONE
TZID:UTC
BEGIN:STANDARD
TZOFFSETFROM:+0000
TZOFFSETTO:+0000
TZNAME:UTC
DTSTART:20240101T000000
END:STANDARD
END:VTIMEZONE
BEGIN:VEVENT
DTSTART;TZID=UTC:20251007T150000
DTEND;TZID=UTC:20251007T180000
DTSTAMP:20260420T044924
CREATED:20250912T151241Z
LAST-MODIFIED:20250915T095013Z
UID:18159-1759849200-1759860000@limburgverduurzaamt.nl
SUMMARY:MKB Limburg Verduurzaamt – Samen richting een toekomstbestendig bedrijf
DESCRIPTION:Ben jij MKB-ondernemer in Limburg en wil je weten hoe duurzaamheid jouw bedrijf sterker kan maken? Kom dan op 7 oktober 2025 naar de inspirerende middagbijeenkomst ‘MKB Limburg Verduurzaamt’ in samenwerking met onze partner de WoonWijzerWinkel Limburg. \nThema: Energietransitie: van technisch beheer naar strategisch belang. \nTijdens dit event ontdek je wat de energietransitie concreet betekent voor jouw onderneming en leer je hoe ook jij gebruik kunt maken van praktische ondersteuning en advies. Niet morgen\, maar vandaag! \nProgramma\n15.00 – 15.15    Inloop met koffie/thee\n15.15 – 15.35    Welkomstwoord en introductie MKBLimburgVerduurzaamt en WWWL\n15.35 – 16.00    Het (strategisch) belang van energietransitie voor je bedrijf\n16.00 – 16.30    Tafeldebat met diverse ondernemers/ambassadeurs\n16.30 – 16.50    Ons dienstenpakket; hoe kunnen we jou als MKB-ondernemer verder op weg helpen?\n16.50 – 17.00    Afsluiting\n17.00 – 18.00    Informeel samenzijn/borrel \n \nEr is voldoende gratis parkeergelegenheid voor de deur!
URL:https://limburgverduurzaamt.nl/event/mkb-limburg-verduurzaamt-samen-richting-een-toekomstbestendig-bedrijf/
LOCATION:WoonWijzerWinkel Limburg\,\, Roda JC Ring 61\, Kerkrade\, Limburg\, 6466NH\, Netherlands
CATEGORIES:MKB
ORGANIZER;CN="WoonWijzerWinkel Limburg":MAILTO:info@limburg.woonwijzerwinkel.nl
END:VEVENT
END:VCALENDAR