BEGIN:VCALENDAR
VERSION:2.0
PRODID:-//Limburg verduurzaamt - ECPv6.15.11//NONSGML v1.0//EN
CALSCALE:GREGORIAN
METHOD:PUBLISH
X-WR-CALNAME:Limburg verduurzaamt
X-ORIGINAL-URL:https://limburgverduurzaamt.nl
X-WR-CALDESC:Evenementen voor Limburg verduurzaamt
REFRESH-INTERVAL;VALUE=DURATION:PT1H
X-Robots-Tag:noindex
X-PUBLISHED-TTL:PT1H
BEGIN:VTIMEZONE
TZID:UTC
BEGIN:STANDARD
TZOFFSETFROM:+0000
TZOFFSETTO:+0000
TZNAME:UTC
DTSTART:20240101T000000
END:STANDARD
END:VTIMEZONE
BEGIN:VEVENT
DTSTART;TZID=UTC:20250909T180000
DTEND;TZID=UTC:20250909T200000
DTSTAMP:20260421T155901
CREATED:20250313T085654Z
LAST-MODIFIED:20250313T123444Z
UID:16818-1757440800-1757448000@limburgverduurzaamt.nl
SUMMARY:VvE: ervaringen\, do's en don'ts. Deel uw ervaring en leer van anderen
DESCRIPTION:De ene vve is de andere niet. In deze informatiebijeenkomst bespreken we diverse casussen van vve’s die een verduurzamingstraject hebben doorlopen. Welke uitdagingen kunnen er ontstaan en hoe kun je deze oplossen? Ervaar het samen met andere vve-leden tijdens deze interactieve sessie! \nSchrijf je hier in.
URL:https://limburgverduurzaamt.nl/event/vve-ervaringen-dos-en-donts-deel-uw-ervaring-en-leer-van-anderen/
LOCATION:Klimaathuis Maastricht\,\, President Rooseveltlaan 217\, Maastricht\, Limburg\, 6224CP\, Netherlands
CATEGORIES:Maastricht,VVE
ORGANIZER;CN="Gemeente Maastricht":MAILTO:vve-balie@maastricht.nl
END:VEVENT
END:VCALENDAR