BEGIN:VCALENDAR
VERSION:2.0
PRODID:-//Limburg verduurzaamt - ECPv6.15.11//NONSGML v1.0//EN
CALSCALE:GREGORIAN
METHOD:PUBLISH
X-ORIGINAL-URL:https://limburgverduurzaamt.nl
X-WR-CALDESC:Evenementen voor Limburg verduurzaamt
REFRESH-INTERVAL;VALUE=DURATION:PT1H
X-Robots-Tag:noindex
X-PUBLISHED-TTL:PT1H
BEGIN:VTIMEZONE
TZID:UTC
BEGIN:STANDARD
TZOFFSETFROM:+0000
TZOFFSETTO:+0000
TZNAME:UTC
DTSTART:20240101T000000
END:STANDARD
END:VTIMEZONE
BEGIN:VEVENT
DTSTART;TZID=UTC:20251113T180000
DTEND;TZID=UTC:20251113T200000
DTSTAMP:20260421T222554
CREATED:20250313T090804Z
LAST-MODIFIED:20250506T091404Z
UID:16820-1763056800-1763064000@limburgverduurzaamt.nl
SUMMARY:VvE: Financiering\, leningen en subsidies
DESCRIPTION:Het verduurzamen van een complex is in veel gevallen een kostbaar proces\, gelukkig zijn er diverse subsidies en leningen speciaal hiervoor beschikbaar. In deze informatiebijeenkomst lichten wij de diverse leningen en subsidies toe waar een vve in 2025 gebruik van kan maken. \nSchrijf je hier in.
URL:https://limburgverduurzaamt.nl/event/vve-financiering-leningen-en-subsidies-2/
LOCATION:Klimaathuis Maastricht\,\, President Rooseveltlaan 217\, Maastricht\, Limburg\, 6224CP\, Netherlands
CATEGORIES:Maastricht,VVE
ORGANIZER;CN="Gemeente Maastricht":MAILTO:vve-balie@maastricht.nl
END:VEVENT
END:VCALENDAR