BEGIN:VCALENDAR
VERSION:2.0
PRODID:-//Limburg verduurzaamt - ECPv6.15.11//NONSGML v1.0//EN
CALSCALE:GREGORIAN
METHOD:PUBLISH
X-ORIGINAL-URL:https://limburgverduurzaamt.nl
X-WR-CALDESC:Evenementen voor Limburg verduurzaamt
REFRESH-INTERVAL;VALUE=DURATION:PT1H
X-Robots-Tag:noindex
X-PUBLISHED-TTL:PT1H
BEGIN:VTIMEZONE
TZID:UTC
BEGIN:STANDARD
TZOFFSETFROM:+0000
TZOFFSETTO:+0000
TZNAME:UTC
DTSTART:20240101T000000
END:STANDARD
END:VTIMEZONE
BEGIN:VEVENT
DTSTART;TZID=UTC:20250903T120000
DTEND;TZID=UTC:20250903T170000
DTSTAMP:20260421T190758
CREATED:20250617T092834Z
LAST-MODIFIED:20250617T092834Z
UID:17839-1756900800-1756918800@limburgverduurzaamt.nl
SUMMARY:Nationaal Symposium Energierechtvaardigheid
DESCRIPTION:
URL:https://limburgverduurzaamt.nl/event/nationaal-symposium-energierechtvaardigheid/
LOCATION:Heerlen\, Burgemeester van Grunsvenplein 145\, Heerlen\, 6411 AS\, Netherlands
CATEGORIES:Heerlen,Parkstad
END:VEVENT
END:VCALENDAR