BEGIN:VCALENDAR
VERSION:2.0
PRODID:-//Limburg verduurzaamt - ECPv6.15.11//NONSGML v1.0//EN
CALSCALE:GREGORIAN
METHOD:PUBLISH
X-WR-CALNAME:Limburg verduurzaamt
X-ORIGINAL-URL:https://limburgverduurzaamt.nl
X-WR-CALDESC:Evenementen voor Limburg verduurzaamt
REFRESH-INTERVAL;VALUE=DURATION:PT1H
X-Robots-Tag:noindex
X-PUBLISHED-TTL:PT1H
BEGIN:VTIMEZONE
TZID:UTC
BEGIN:STANDARD
TZOFFSETFROM:+0000
TZOFFSETTO:+0000
TZNAME:UTC
DTSTART:20240101T000000
END:STANDARD
END:VTIMEZONE
BEGIN:VEVENT
DTSTART;TZID=UTC:20250310T080000
DTEND;TZID=UTC:20250417T200000
DTSTAMP:20260421T155401
CREATED:20250314T122653Z
LAST-MODIFIED:20250325T075305Z
UID:16862-1741593600-1744920000@limburgverduurzaamt.nl
SUMMARY:Energiezuinig wonen en leven in Landgraaf - Ontmoetingscentrum Oude Heide
DESCRIPTION:Aardgas is jarenlang de standaard geweest voor het verwarmen van onze huizen\, koken en douchen. Inmiddels weten we echter dat het gebruik van aardgas nadelen heeft. Daarom stappen we steeds vaker over op duurzamere alternatieven. Dit is niet alleen beter voor het milieu\, maar ook voor uw portemonnee. \n\n\nOok in Landgraaf willen we deze overstap samen met jou maken. Ons doel is om in 2030 het aardgasverbruik met 20% te verminderen ten opzichte van 2019.\n\n\nHeb je vragen over isolatie\, warmtepompen of andere energiebesparende maatregelen? Bezoek dan een van onze inlooppunten en ga in gesprek met onze collega’s. Wij helpen u graag verder!\n\n\n\n\nDe inlooppunten zijn geopend van 𝟭𝟬 𝗺𝗮𝗮𝗿𝘁 𝘁𝗼𝘁 𝟭𝟳 𝗮𝗽𝗿𝗶𝗹:\n\n\n 𝗢𝗻𝘁𝗺𝗼𝗲𝘁𝗶𝗻𝗴𝘀𝗰𝗲𝗻𝘁𝗿𝘂𝗺 𝗢𝘂𝗱𝗲 𝗛𝗲𝗶𝗱𝗲 – 𝗢𝘂𝗱𝗲 𝗛𝗲𝗶𝗱𝗲 𝟰𝟮\, 𝟲𝟯𝟳𝟯 𝗚𝗝 𝗟𝗮𝗻𝗱𝗴𝗿𝗮𝗮𝗳\n Woensdag 14:00 – 17:00\n\n\nKom gerust langs en ontdek wat jij kunt doen om jouw woning energiezuiniger te maken!
URL:https://limburgverduurzaamt.nl/event/energiezuinig-wonen-en-leven-in-landgraaf/
LOCATION:Ontmoetingscentrum Oude Heide\,\, Oude Heide 42\, Landgraaf\, Limburg\, 6373GJ\, Netherlands
CATEGORIES:Landgraaf,Limburg,Parkstad
ORGANIZER;CN="Gemeente Landgraaf":MAILTO:gemeente@landgraaf.nl
END:VEVENT
BEGIN:VEVENT
DTSTART;TZID=UTC:20250310T080000
DTEND;TZID=UTC:20250417T200000
DTSTAMP:20260421T155401
CREATED:20250325T074946Z
LAST-MODIFIED:20250325T074946Z
UID:16921-1741593600-1744920000@limburgverduurzaamt.nl
SUMMARY:Energiezuinig wonen en leven in Landgraaf - Op Gen Hei
DESCRIPTION:Aardgas is jarenlang de standaard geweest voor het verwarmen van onze huizen\, koken en douchen. Inmiddels weten we echter dat het gebruik van aardgas nadelen heeft. Daarom stappen we steeds vaker over op duurzamere alternatieven. Dit is niet alleen beter voor het milieu\, maar ook voor uw portemonnee. \n\n\nOok in Landgraaf willen we deze overstap samen met jou maken. Ons doel is om in 2030 het aardgasverbruik met 20% te verminderen ten opzichte van 2019.\n\n\nHeb je vragen over isolatie\, warmtepompen of andere energiebesparende maatregelen? Bezoek dan een van onze inlooppunten en ga in gesprek met onze collega’s. Wij helpen u graag verder!\n\n\n\n\nDe inlooppunten zijn geopend van 𝟭𝟬 𝗺𝗮𝗮𝗿𝘁 𝘁𝗼𝘁 𝟭𝟳 𝗮𝗽𝗿𝗶𝗹:\n\n\n Maandag 08:00 – 17:00\n Dinsdag 18:00 – 20:00 (op 11/03\, 25/03 & 08/04)\n Woensdag 08:00 – 13:30
URL:https://limburgverduurzaamt.nl/event/energiezuinig-wonen-en-leven-in-landgraaf-op-gen-hei/
LOCATION:Op Gen Hei\,\, An de Voeëgelsjtang 12\, Landgraaf\, Limburg\, 6373BJ\, Netherlands
CATEGORIES:Landgraaf,Limburg,Parkstad
ORGANIZER;CN="Gemeente Landgraaf":MAILTO:gemeente@landgraaf.nl
END:VEVENT
BEGIN:VEVENT
DTSTART;TZID=UTC:20250310T080000
DTEND;TZID=UTC:20250417T200000
DTSTAMP:20260421T155401
CREATED:20250325T075147Z
LAST-MODIFIED:20250325T075147Z
UID:16925-1741593600-1744920000@limburgverduurzaamt.nl
SUMMARY:Energiezuinig wonen en leven in Landgraaf - Heereveld
DESCRIPTION:Aardgas is jarenlang de standaard geweest voor het verwarmen van onze huizen\, koken en douchen. Inmiddels weten we echter dat het gebruik van aardgas nadelen heeft. Daarom stappen we steeds vaker over op duurzamere alternatieven. Dit is niet alleen beter voor het milieu\, maar ook voor uw portemonnee. \n\n\nOok in Landgraaf willen we deze overstap samen met jou maken. Ons doel is om in 2030 het aardgasverbruik met 20% te verminderen ten opzichte van 2019.\n\n\nHeb je vragen over isolatie\, warmtepompen of andere energiebesparende maatregelen? Bezoek dan een van onze inlooppunten en ga in gesprek met onze collega’s. Wij helpen u graag verder!\n\n\n\n\nDe inlooppunten zijn geopend van 𝟭𝟬 𝗺𝗮𝗮𝗿𝘁 𝘁𝗼𝘁 𝟭𝟳 𝗮𝗽𝗿𝗶𝗹:\n\n\n Dinsdag 08:00 – 13:00 & 18:00 – 20:00 (op 18/03\, 01/04 & 15/04)\n Donderdag 08:00 – 13:00
URL:https://limburgverduurzaamt.nl/event/energiezuinig-wonen-en-leven-in-landgraaf-heereveld/
LOCATION:Heereveld\,\, Kloosterstraat 25\, Landgraaf\, Limburg\, 6374EN\, Netherlands
CATEGORIES:Landgraaf,Limburg,Parkstad
ORGANIZER;CN="Gemeente Landgraaf":MAILTO:gemeente@landgraaf.nl
END:VEVENT
BEGIN:VEVENT
DTSTART;TZID=UTC:20250327T150000
DTEND;TZID=UTC:20250327T183000
DTSTAMP:20260421T155401
CREATED:20250314T133218Z
LAST-MODIFIED:20250314T133218Z
UID:16868-1743087600-1743100200@limburgverduurzaamt.nl
SUMMARY:Maak je bedrijf toekomstbestendig met slimme financiering!
DESCRIPTION:Wil je investeren in verduurzaming\, maar weet je niet hoe je dit financieel kunt realiseren? Ontdek tijdens onze interactieve kennissessie financiering energiemaatregelen voor het MKB welke mogelijkheden er zijn om jouw bedrijf toekomstbestendig te maken. \nTijdens deze sessie krijg je inzicht in diverse financieringsopties\, subsidies en leningen die specifiek beschikbaar zijn voor ondernemers in Limburg. Experts van het Limburgs Energie Fonds (LEF)\, Stichting BespaarGarant\, LIOF\, Summa Advies Groep en Innovencio geven praktische informatie en gaan in op diverse kansen voor jouw bedrijf om energiemaatregelen financieel haalbaar te maken. \nMis deze kans niet om jouw bedrijf slim te verduurzamen! Meld je aan via:\ninfo@groene-economie.com
URL:https://limburgverduurzaamt.nl/event/maak-je-bedrijf-toekomstbestendig-met-slimme-financiering/
LOCATION:BC Roerpoort\,\, Boven de Wolfskuil 3\, Herten\, Limburg\, 6049LX\, Netherlands
CATEGORIES:Limburg,MKB
END:VEVENT
BEGIN:VEVENT
DTSTART;TZID=UTC:20250327T190000
DTEND;TZID=UTC:20250327T210000
DTSTAMP:20260421T155401
CREATED:20250312T100103Z
LAST-MODIFIED:20250312T102419Z
UID:16797-1743102000-1743109200@limburgverduurzaamt.nl
SUMMARY:Buurtactie verduurzaming Beekdaelen 2e bijeenkomst
DESCRIPTION:Ben je geïnteresseerd in het verbeteren van je woning? Wil je graag lagere energiekosten? Bijdragen aan een beter milieu? Kom dan naar een van onze gratis informatieavonden\, speciaal voor de bewoners in onze buurt! \nTijdens deze avond bespreken we alles over energie besparen in huis en praktische tips die je direct kunt toepassen. Zoals: \n\nZonnepanelen en isolatie: ontdek de mogelijkheden voor jouw woning.\nAndere manieren dan een cv om jouw huis goedkoop en duurzaam te verwarmen\, zoals alles over de warmtepomp.\nSubsidies en financiering: leer alles over beschikbare financiële opties voor verduurzaming.\nErvaringen uit de buurt\, luister naar verhalen van buurtbewoners die hun woning al hebben verduurzaamd.\nInzet van Energiecoaches van ImpulZ. Deze energiecoaches zijn gericht op het informeren en coachen bij je verduurzamingsreis.\n\nSchrijf je hier in.
URL:https://limburgverduurzaamt.nl/event/buurtactie-verduurzaming-beekdaelen-2e-bijeenkomst/
LOCATION:Dorpshuis Sweikhuizen\,\, Bergstraat 80\, Sweikhuizen\, Limburg\, 6174RT\, Netherlands
CATEGORIES:Beekdaelen,Parkstad
END:VEVENT
END:VCALENDAR